BEGIN:VCALENDAR
VERSION:2.0
PRODID:-//OmniMagnetCalendar//EN
BEGIN:VEVENT
DTSTAMP:20190625T195740Z
STATUS:CONFIRMED
UID:hcmiddletennessee.clubs.harvard.edu188
DTSTART:20250426T200000Z
DTEND:20250426T220000Z
LOCATION:W Nashville, 6211 Patton Rd, Arrington, TN, 37014, USA,
SUMMARY:All-Ivy Spring Mixer
DESCRIPTION:
BEGIN:VALARM
TRIGGER:-PT15M
ACTION:DISPLAY
END:VALARM
TRANSP:OPAQUE
END:VEVENT
END:VCALENDAR
